BEGIN:VCALENDAR
METHOD:PUBLISH
VERSION:2.0
PRODID: TUL
BEGIN:VEVENT
SUMMARY:Státní závěrečná zkouška Ing. Martina Špetlíka (DSP P0788D270007 Aplikované vědy v inženýrství)
UID:563
STATUS:TENTATIVE
DESCRIPTION:Státní závěreční zkouška se uskuteční v Liberci dne 30. 4. 2026 od 9 hodin v zasedací místnosti DFM (Hálkova 6, budova A TUL, 2. NP).
DTSTAMP:20260429T150000
DTSTART:20260429
LAST-MODIFIED:
LOCATION:
END:VEVENT

END:VCALENDAR